BEGIN:VCALENDAR
VERSION:2.0
PRODID:-//RISE Viera 55+ - ECPv6.15.17//NONSGML v1.0//EN
CALSCALE:GREGORIAN
METHOD:PUBLISH
X-ORIGINAL-URL:https://riseviera.com
X-WR-CALDESC:Events for RISE Viera 55+
REFRESH-INTERVAL;VALUE=DURATION:PT1H
X-Robots-Tag:noindex
X-PUBLISHED-TTL:PT1H
BEGIN:VTIMEZONE
TZID:America/New_York
BEGIN:DAYLIGHT
TZOFFSETFROM:-0500
TZOFFSETTO:-0400
TZNAME:EDT
DTSTART:20240310T070000
END:DAYLIGHT
BEGIN:STANDARD
TZOFFSETFROM:-0400
TZOFFSETTO:-0500
TZNAME:EST
DTSTART:20241103T060000
END:STANDARD
BEGIN:DAYLIGHT
TZOFFSETFROM:-0500
TZOFFSETTO:-0400
TZNAME:EDT
DTSTART:20250309T070000
END:DAYLIGHT
BEGIN:STANDARD
TZOFFSETFROM:-0400
TZOFFSETTO:-0500
TZNAME:EST
DTSTART:20251102T060000
END:STANDARD
BEGIN:DAYLIGHT
TZOFFSETFROM:-0500
TZOFFSETTO:-0400
TZNAME:EDT
DTSTART:20260308T070000
END:DAYLIGHT
BEGIN:STANDARD
TZOFFSETFROM:-0400
TZOFFSETTO:-0500
TZNAME:EST
DTSTART:20261101T060000
END:STANDARD
END:VTIMEZONE
BEGIN:VEVENT
DTSTART;TZID=America/New_York:20250929T093000
DTEND;TZID=America/New_York:20250929T113000
DTSTAMP:20260422T191226
CREATED:20250910T141841Z
LAST-MODIFIED:20250910T141841Z
UID:5668181-1759138200-1759145400@riseviera.com
SUMMARY:Yoga & Chair Yoga
DESCRIPTION:
URL:https://riseviera.com/event/yoga-chair-yoga-3/
LOCATION:RISE Viera\, 8353 Auterra Dr\, Viera\, Florida\, 32940
END:VEVENT
BEGIN:VEVENT
DTSTART;TZID=America/New_York:20250929T160000
DTEND;TZID=America/New_York:20250929T180000
DTSTAMP:20260422T191226
CREATED:20250910T141842Z
LAST-MODIFIED:20250910T141842Z
UID:5668182-1759161600-1759168800@riseviera.com
SUMMARY:Trivia & Treats
DESCRIPTION:
URL:https://riseviera.com/event/trivia-treats-3/
LOCATION:RISE Viera\, 8353 Auterra Dr\, Viera\, Florida\, 32940
END:VEVENT
END:VCALENDAR