BEGIN:VCALENDAR
VERSION:2.0
PRODID:-//RISE Viera 55+ - ECPv6.15.17//NONSGML v1.0//EN
CALSCALE:GREGORIAN
METHOD:PUBLISH
X-WR-CALNAME:RISE Viera 55+
X-ORIGINAL-URL:https://riseviera.com
X-WR-CALDESC:Events for RISE Viera 55+
REFRESH-INTERVAL;VALUE=DURATION:PT1H
X-Robots-Tag:noindex
X-PUBLISHED-TTL:PT1H
BEGIN:VTIMEZONE
TZID:America/New_York
BEGIN:DAYLIGHT
TZOFFSETFROM:-0500
TZOFFSETTO:-0400
TZNAME:EDT
DTSTART:20240310T070000
END:DAYLIGHT
BEGIN:STANDARD
TZOFFSETFROM:-0400
TZOFFSETTO:-0500
TZNAME:EST
DTSTART:20241103T060000
END:STANDARD
BEGIN:DAYLIGHT
TZOFFSETFROM:-0500
TZOFFSETTO:-0400
TZNAME:EDT
DTSTART:20250309T070000
END:DAYLIGHT
BEGIN:STANDARD
TZOFFSETFROM:-0400
TZOFFSETTO:-0500
TZNAME:EST
DTSTART:20251102T060000
END:STANDARD
BEGIN:DAYLIGHT
TZOFFSETFROM:-0500
TZOFFSETTO:-0400
TZNAME:EDT
DTSTART:20260308T070000
END:DAYLIGHT
BEGIN:STANDARD
TZOFFSETFROM:-0400
TZOFFSETTO:-0500
TZNAME:EST
DTSTART:20261101T060000
END:STANDARD
END:VTIMEZONE
BEGIN:VEVENT
DTSTART;TZID=America/New_York:20250911T093000
DTEND;TZID=America/New_York:20250911T113000
DTSTAMP:20260422T191150
CREATED:20250910T140345Z
LAST-MODIFIED:20250910T140345Z
UID:5668143-1757583000-1757590200@riseviera.com
SUMMARY:Indoor Walking & Tai Chi
DESCRIPTION:
URL:https://riseviera.com/event/indoor-walking-tai-chi-9/
LOCATION:RISE Viera\, 8353 Auterra Dr\, Viera\, Florida\, 32940
END:VEVENT
BEGIN:VEVENT
DTSTART;TZID=America/New_York:20250911T110000
DTEND;TZID=America/New_York:20250911T130000
DTSTAMP:20260422T191150
CREATED:20250910T140546Z
LAST-MODIFIED:20250910T140546Z
UID:5668144-1757588400-1757595600@riseviera.com
SUMMARY:Travel Talk
DESCRIPTION:
URL:https://riseviera.com/event/travel-talk/
LOCATION:RISE Viera\, 8353 Auterra Dr\, Viera\, Florida\, 32940
END:VEVENT
BEGIN:VEVENT
DTSTART;TZID=America/New_York:20250911T170000
DTEND;TZID=America/New_York:20250911T190000
DTSTAMP:20260422T191150
CREATED:20250910T140546Z
LAST-MODIFIED:20250910T140546Z
UID:5668145-1757610000-1757617200@riseviera.com
SUMMARY:Firearms Fun Night at Frog Bones - AVET Project Fundraiser
DESCRIPTION:
URL:https://riseviera.com/event/firearms-fun-night-at-frog-bones-avet-project-fundraiser/
LOCATION:RISE Viera\, 8353 Auterra Dr\, Viera\, Florida\, 32940
END:VEVENT
END:VCALENDAR