BEGIN:VCALENDAR
VERSION:2.0
PRODID:-//RISE Viera 55+ - ECPv6.15.17//NONSGML v1.0//EN
CALSCALE:GREGORIAN
METHOD:PUBLISH
X-WR-CALNAME:RISE Viera 55+
X-ORIGINAL-URL:https://riseviera.com
X-WR-CALDESC:Events for RISE Viera 55+
REFRESH-INTERVAL;VALUE=DURATION:PT1H
X-Robots-Tag:noindex
X-PUBLISHED-TTL:PT1H
BEGIN:VTIMEZONE
TZID:America/New_York
BEGIN:DAYLIGHT
TZOFFSETFROM:-0500
TZOFFSETTO:-0400
TZNAME:EDT
DTSTART:20240310T070000
END:DAYLIGHT
BEGIN:STANDARD
TZOFFSETFROM:-0400
TZOFFSETTO:-0500
TZNAME:EST
DTSTART:20241103T060000
END:STANDARD
BEGIN:DAYLIGHT
TZOFFSETFROM:-0500
TZOFFSETTO:-0400
TZNAME:EDT
DTSTART:20250309T070000
END:DAYLIGHT
BEGIN:STANDARD
TZOFFSETFROM:-0400
TZOFFSETTO:-0500
TZNAME:EST
DTSTART:20251102T060000
END:STANDARD
BEGIN:DAYLIGHT
TZOFFSETFROM:-0500
TZOFFSETTO:-0400
TZNAME:EDT
DTSTART:20260308T070000
END:DAYLIGHT
BEGIN:STANDARD
TZOFFSETFROM:-0400
TZOFFSETTO:-0500
TZNAME:EST
DTSTART:20261101T060000
END:STANDARD
END:VTIMEZONE
BEGIN:VEVENT
DTSTART;TZID=America/New_York:20250909T093000
DTEND;TZID=America/New_York:20250909T113000
DTSTAMP:20260422T191159
CREATED:20250910T140145Z
LAST-MODIFIED:20250910T140145Z
UID:5668138-1757410200-1757417400@riseviera.com
SUMMARY:Water Exercise
DESCRIPTION:
URL:https://riseviera.com/event/water-exercise-20/
LOCATION:RISE Viera\, 8353 Auterra Dr\, Viera\, Florida\, 32940
END:VEVENT
BEGIN:VEVENT
DTSTART;TZID=America/New_York:20250909T140000
DTEND;TZID=America/New_York:20250909T160000
DTSTAMP:20260422T191159
CREATED:20250910T140344Z
LAST-MODIFIED:20250910T140344Z
UID:5668139-1757426400-1757433600@riseviera.com
SUMMARY:Bunco With First Light and The Blake
DESCRIPTION:
URL:https://riseviera.com/event/bunco-with-first-light-and-the-blake/
LOCATION:RISE Viera\, 8353 Auterra Dr\, Viera\, Florida\, 32940
END:VEVENT
BEGIN:VEVENT
DTSTART;TZID=America/New_York:20250909T170000
DTEND;TZID=America/New_York:20250909T190000
DTSTAMP:20260422T191159
CREATED:20250910T140345Z
LAST-MODIFIED:20250910T140345Z
UID:5668140-1757437200-1757444400@riseviera.com
SUMMARY:Healthy Eating and Fitness Machine Workshop With Mike
DESCRIPTION:
URL:https://riseviera.com/event/healthy-eating-and-fitness-machine-workshop-with-mike/
LOCATION:RISE Viera\, 8353 Auterra Dr\, Viera\, Florida\, 32940
END:VEVENT
END:VCALENDAR